BEGIN:VCALENDAR
VERSION:2.0
PRODID:-//Sabre//Sabre VObject 4.5.8//EN
CALSCALE:GREGORIAN
BEGIN:VEVENT
UID:sabre-vobject-79c9c5a1-3ac9-4235-a7dc-a4352b357adc
DTSTAMP:20260419T141334Z
SUMMARY:STEM Camp Registration
DESCRIPTION:
X-ALT-DESC:FMTTYPE=text/html:<!DOCTYPE HTML PUBLIC "-//W3C//DTD HTML 3.2//E
 N"><HTML></HTML>
CREATED;TZID=America/New_York:20190314T144348
URL;VALUE=URI:https://picatinny.armymwr.com/calendar/event
DTSTART;TZID=America/New_York:20190401T000000
DTEND;TZID=America/New_York:20190531T235959
SEQUENCE:0
END:VEVENT
END:VCALENDAR
