BEGIN:VCALENDAR
VERSION:2.0
PRODID:-//Sabre//Sabre VObject 4.5.8//EN
CALSCALE:GREGORIAN
BEGIN:VEVENT
UID:sabre-vobject-e4b62961-a249-4d0a-9b7d-fdcc0bc1209b
DTSTAMP:20260421T033831Z
SUMMARY:Total Body Burn
DESCRIPTION:TOTAL BODY BURN sculpts your entire body through progressions t
 hat focus on your upper body\, lower body\, and then combine everything to
  really feel the burn exactly where you want to feel it.\n
X-ALT-DESC:FMTTYPE=text/html:<!DOCTYPE HTML PUBLIC "-//W3C//DTD HTML 3.2//E
 N"><HTML><p>TOTAL BODY BURN sculpts your entire body through progressions 
 that focus on your upper body\, lower body\, and then combine everything t
 o really feel the burn exactly where you want to feel it.</p>\n</HTML>
CREATED;TZID=America/New_York:20181030T141953
URL;VALUE=URI:https://picatinny.armymwr.com/calendar/event
DTSTART;TZID=America/New_York:20181120T054500
DTEND;TZID=America/New_York:20181120T063000
SEQUENCE:0
END:VEVENT
END:VCALENDAR
