BEGIN:VCALENDAR
VERSION:2.0
PRODID:-//Sabre//Sabre VObject 4.5.8//EN
CALSCALE:GREGORIAN
BEGIN:VEVENT
UID:sabre-vobject-7ac169da-ef45-43e6-a4bf-a83fb266a0d4
DTSTAMP:20260421T010237Z
SUMMARY:Long and Lean
DESCRIPTION:Put your muscles to the test. Use different types of muscle con
 tractions to build long\, lean\, strong muscles. This class gives you an e
 dge on sculpting and the body you want! Mat\, med\, heavy weights.\n
X-ALT-DESC:FMTTYPE=text/html:<!DOCTYPE HTML PUBLIC "-//W3C//DTD HTML 3.2//E
 N"><HTML><p>Put your muscles to the test. Use different types of muscle co
 ntractions to build long\, lean\, strong muscles. This class gives you an 
 edge on sculpting and the body you want! Mat\, med\, heavy weights.</p>\n<
 /HTML>
CREATED;TZID=America/New_York:20181030T141916
URL;VALUE=URI:https://picatinny.armymwr.com/calendar/event
DTSTART;TZID=America/New_York:20181113T054500
DTEND;TZID=America/New_York:20181113T063000
SEQUENCE:0
END:VEVENT
END:VCALENDAR
