BEGIN:VCALENDAR
VERSION:2.0
PRODID:-//Sabre//Sabre VObject 4.5.8//EN
CALSCALE:GREGORIAN
BEGIN:VEVENT
UID:sabre-vobject-b1b44019-1c62-4582-a601-bf7bbcb3ddc0
DTSTAMP:20260422T020456Z
SUMMARY:TORCH 
DESCRIPTION:TORCH will scorch calories\, alternating kickbox moves and musc
 ular endurance training\, using a resistance band\, the only equipment you
  need. TKO favs Sean &amp\; Heather team teach this power-meld. Hot!\n
X-ALT-DESC:FMTTYPE=text/html:<!DOCTYPE HTML PUBLIC "-//W3C//DTD HTML 3.2//E
 N"><HTML><p>TORCH will scorch calories\, alternating kickbox moves and mus
 cular endurance training\, using a resistance band\, the only equipment yo
 u need. TKO favs Sean &amp\; Heather team teach this power-meld. Hot!</p>\
 n</HTML>
CREATED;TZID=America/New_York:20181011T120053
URL;VALUE=URI:https://picatinny.armymwr.com/calendar/event
DTSTART;TZID=America/New_York:20181025T074500
DTEND;TZID=America/New_York:20181025T083000
SEQUENCE:0
END:VEVENT
END:VCALENDAR
