BEGIN:VCALENDAR
VERSION:2.0
PRODID:-//Sabre//Sabre VObject 4.5.8//EN
CALSCALE:GREGORIAN
BEGIN:VEVENT
UID:sabre-vobject-ea94e2ae-f679-4d87-8125-36c6d8e4c35c
DTSTAMP:20260421T234548Z
SUMMARY:GOT YER BACK 
DESCRIPTION:GOT YER BACK hits your backside: hips\, glutes\, hamstrings\, b
 ack with solid training\, bringing your entire body into total strength an
 d balance with better posture too. Barbell Set\, Step&amp\;Risers\, Mat\n
X-ALT-DESC:FMTTYPE=text/html:<!DOCTYPE HTML PUBLIC "-//W3C//DTD HTML 3.2//E
 N"><HTML><p>GOT YER BACK hits your backside: hips\, glutes\, hamstrings\, 
 back with solid training\, bringing your entire body into total strength a
 nd balance with better posture too. Barbell Set\, Step&amp\;Risers\, Mat</
 p>\n</HTML>
CREATED;TZID=America/New_York:20181011T115958
URL;VALUE=URI:https://picatinny.armymwr.com/calendar/event
DTSTART;TZID=America/New_York:20181018T074500
DTEND;TZID=America/New_York:20181018T083000
SEQUENCE:0
END:VEVENT
END:VCALENDAR
