BEGIN:VCALENDAR
VERSION:2.0
PRODID:-//Sabre//Sabre VObject 4.5.8//EN
CALSCALE:GREGORIAN
BEGIN:VEVENT
UID:sabre-vobject-47f3fb83-930a-4389-9a32-306159622bf8
DTSTAMP:20260422T112207Z
SUMMARY:ESCALATION
DESCRIPTION:ESCALATION alternates push-pull moves in a front and back side 
 superset\; the goal is to complete all reps without stopping or breaking f
 orm. Challenging! Barbell Set\, Step\, 8 Risers needed.\n
X-ALT-DESC:FMTTYPE=text/html:<!DOCTYPE HTML PUBLIC "-//W3C//DTD HTML 3.2//E
 N"><HTML><p>ESCALATION alternates push-pull moves in a front and back side
  superset\; the goal is to complete all reps without stopping or breaking 
 form. Challenging! Barbell Set\, Step\, 8 Risers needed.</p>\n</HTML>
CREATED;TZID=America/New_York:20181011T115856
URL;VALUE=URI:https://picatinny.armymwr.com/calendar/event
DTSTART;TZID=America/New_York:20181016T054500
DTEND;TZID=America/New_York:20181016T063000
SEQUENCE:0
END:VEVENT
END:VCALENDAR
