BEGIN:VCALENDAR
VERSION:2.0
PRODID:-//Sabre//Sabre VObject 4.5.8//EN
CALSCALE:GREGORIAN
BEGIN:VEVENT
UID:sabre-vobject-ea32517d-19e6-485f-862c-c2a9bb5a2511
DTSTAMP:20260425T151441Z
SUMMARY:Ladies' Archery League
DESCRIPTION:
X-ALT-DESC:FMTTYPE=text/html:<!DOCTYPE HTML PUBLIC "-//W3C//DTD HTML 3.2//E
 N"><HTML></HTML>
CREATED;TZID=America/New_York:20180904T150633
URL;VALUE=URI:https://picatinny.armymwr.com/calendar/event
DTSTART;TZID=America/New_York:20180918T170000
DTEND;TZID=America/New_York:20180918T183000
SEQUENCE:0
END:VEVENT
END:VCALENDAR
